BEGIN:VCALENDAR
VERSION:2.0
PRODID:-//ChamberMaster//Event Calendar 2.0//EN
METHOD:PUBLISH
X-PUBLISHED-TTL:P1H
REFRESH-INTERVAL:P1H
CALSCALE:GREGORIAN
BEGIN:VTIMEZONE
TZID:America/New_York
BEGIN:DAYLIGHT
RRULE:FREQ=YEARLY;BYMONTH=3;BYDAY=2SU
DTSTART:20070101T000000
TZOFFSETFROM:-0500
TZOFFSETTO:-0400
TZNAME:Eastern Daylight Time
END:DAYLIGHT
BEGIN:STANDARD
RRULE:FREQ=YEARLY;BYMONTH=11;BYDAY=1SU
DTSTART:20070101T000000
TZOFFSETFROM:-0400
TZOFFSETTO:-0500
TZNAME:Eastern Standard Time
END:STANDARD
END:VTIMEZONE
BEGIN:VEVENT
DTSTART;TZID=America/New_York:20260609T120000
DTEND;TZID=America/New_York:20260609T130000
X-MICROSOFT-CDO-ALLDAYEVENT:FALSE
SUMMARY:Women in Business - June 2026
DESCRIPTION:Let's grow together - you belong in this room.Register today to reserve your spot.\nSponsored by: Cohen Highley LLP
X-ALT-DESC;FMTTYPE=text/html:<!DOCTYPE html><html><head><title></title></head><body aria-disabled="false"><p data-end="137" data-start="55">Let&rsquo\;s grow together - you belong in this room.</p><p><strong fr-original-style="" style="font-weight: 700\;">Register today to reserve your spot.</strong></p><p><br></p><p><strong fr-original-style="" style="font-weight: 700\;"><em>Sponsored by: Cohen Highley LLP</em></strong></p></body></html>
LOCATION:39 Front Street West Strathroy ON N7G 1X5
UID:e.4455.1446992
SEQUENCE:3
DTSTAMP:20260421T131935Z
URL:https://business.sdcc.on.ca/chamber-events/Details/women-in-business-june-2026-1713799?sourceTypeId=Hub
END:VEVENT
END:VCALENDAR
