BEGIN:VCALENDAR
VERSION:2.0
PRODID:-//ChamberMaster//Event Calendar 2.0//EN
METHOD:PUBLISH
X-PUBLISHED-TTL:P1H
REFRESH-INTERVAL:P1H
CALSCALE:GREGORIAN
BEGIN:VTIMEZONE
TZID:America/New_York
BEGIN:DAYLIGHT
RRULE:FREQ=YEARLY;BYMONTH=3;BYDAY=2SU
DTSTART:20070101T000000
TZOFFSETFROM:-0500
TZOFFSETTO:-0400
TZNAME:Eastern Daylight Time
END:DAYLIGHT
BEGIN:STANDARD
RRULE:FREQ=YEARLY;BYMONTH=11;BYDAY=1SU
DTSTART:20070101T000000
TZOFFSETFROM:-0400
TZOFFSETTO:-0500
TZNAME:Eastern Standard Time
END:STANDARD
END:VTIMEZONE
BEGIN:VEVENT
DTSTART;TZID=America/New_York:20260501T180000
DTEND;TZID=America/New_York:20260501T193000
X-MICROSOFT-CDO-ALLDAYEVENT:FALSE
SUMMARY:Young Professionals Series - May 2026
DESCRIPTION:A dynamic event for emerging leaders and early-career pros looking to expand their network\, sharpen skills\, and give back to the community. Geared for professionals 45 and younger.Why Attend?Build deep connectionsLearn from new perspectivesChallenge yourself and develop new skillsGive back locallyThis is a free event for Chamber Members - future members are welcome to attend once before joining the Chamber.Sponsored by: BDC
X-ALT-DESC;FMTTYPE=text/html:<!DOCTYPE html><html><head><title></title></head><body aria-disabled="false"><p><strong fr-original-style="" style="font-weight: 700\;">A dynamic event</strong> for emerging leaders and early-career pros looking to expand their network\, sharpen skills\, and give back to the community. <strong fr-original-style="" style="font-weight: 700\;">Geared for professionals 45 and younger.</strong></p><p><strong fr-original-style="" style="font-weight: 700\;">Why Attend?</strong></p><ul fr-original-style="" style="list-style-position: inside\;"><li style="font-weight: bold\;"><strong fr-original-style="" style="font-weight: 700\;">Build deep connections</strong></li><li style="font-weight: bold\;"><strong fr-original-style="" style="font-weight: 700\;">Learn from new perspectives</strong></li><li style="font-weight: bold\;"><strong fr-original-style="" style="font-weight: 700\;">Challenge yourself and develop new skills</strong></li><li style="font-weight: bold\;"><strong fr-original-style="" style="font-weight: 700\;">Give back locally</strong></li></ul><p><span style="color: rgb(0\, 0\, 0)\; font-family: Arial\; font-size: medium\; font-style: normal\; font-variant-ligatures: normal\; font-variant-caps: normal\; font-weight: 400\; letter-spacing: normal\; orphans: 2\; text-align: start\; text-indent: 0px\; text-transform: none\; widows: 2\; word-spacing: 0px\; -webkit-text-stroke-width: 0px\; white-space: normal\; text-decoration-thickness: initial\; text-decoration-style: initial\; text-decoration-color: initial\; display: inline !important\; float: none\;">This is a free event for Chamber Members - future members are welcome to attend once before joining the Chamber.</span></p><p><em>Sponsored by: BDC</em></p></body></html>
LOCATION:67 Front Street W. Strathroy ON N7G 1X6
UID:e.4455.1396175
SEQUENCE:3
DTSTAMP:20260421T132428Z
URL:https://business.sdcc.on.ca/chamber-events/Details/young-professionals-series-may-2026-1649798?sourceTypeId=Hub
END:VEVENT
END:VCALENDAR
